View In:
ArcGIS JavaScript
ArcGIS Online Map Viewer
ArcGIS Earth
Service Description: Public/PBOT_Railroad_Ordinance_Downtown
Name: Public/PBOT_Railroad_Ordinance_Downtown
Description:
Single Fused Map Cache: false
Extent:
XMin: 7637066.531494141
YMin: 675256.7801082268
XMax: 7647923.309134263
YMax: 692670.010925293
Spatial Reference: 2913
(2913)
LatestVCSWkid(0)
Initial Extent:
XMin: 7637066.531494141
YMin: 675256.7801082268
XMax: 7647923.309134263
YMax: 692670.010925293
Spatial Reference: 2913
(2913)
LatestVCSWkid(0)
Full Extent:
XMin: 7637066.531494141
YMin: 675256.7801082268
XMax: 7647923.309134263
YMax: 692670.010925293
Spatial Reference: 2913
(2913)
LatestVCSWkid(0)
Pixel Size X: 1.9657392069748305
Pixel Size Y: 3.282418627156674
Band Count: 3
Pixel Type: U8
RasterFunction Infos: {"rasterFunctionInfos": [{
"name": "None",
"description": "",
"help": ""
}]}
Mensuration Capabilities: Basic
Inspection Capabilities:
Has Histograms: true
Has Colormap: false
Has Multi Dimensions : false
Rendering Rule:
Min Scale: 0
Max Scale: 0
Copyright Text:
Service Data Type: esriImageServiceDataTypeRGB
Min Values: 0, 0, 0
Max Values: 255, 255, 255
Mean Values: 153.50587680376, 132.20281137759, 103.31560041182
Standard Deviation Values: 105.78983087942, 92.187012941552, 72.088240633284
Object ID Field:
Fields:
None
Default Mosaic Method: Center
Allowed Mosaic Methods:
SortField:
SortValue: null
Mosaic Operator: First
Default Compression Quality: 75
Default Resampling Method: Bilinear
Max Record Count: null
Max Image Height: 4100
Max Image Width: 15000
Max Download Image Count: null
Max Mosaic Image Count: null
Allow Raster Function: true
Allow Copy: true
Allow Analysis: true
Allow Compute TiePoints: false
Supports Statistics: false
Supports Advanced Queries: false
Use StandardizedQueries: true
Raster Type Infos:
Name: Raster Dataset
Description: Supports all ArcGIS Raster Datasets
Help:
Has Raster Attribute Table: false
Edit Fields Info: null
Ownership Based AccessControl For Rasters: null
Child Resources:
Info
Histograms
Statistics
Key Properties
Legend
Raster Function Infos
Supported Operations:
Export Image
Identify
Measure
Compute Histograms
Compute Statistics Histograms
Get Samples
Compute Class Statistics
Query Boundary
Compute Pixel Location
Compute Angles
Validate
Project