{
 "currentVersion": 11.5,
 "serviceDescription": "Public/PBOT_Railroad_Ordinance_Downtown",
 "name": "Public/PBOT_Railroad_Ordinance_Downtown",
 "description": "",
 "extent": {
  "xmin": 7637066.531494141,
  "ymin": 675256.7801082268,
  "xmax": 7647923.309134263,
  "ymax": 692670.010925293,
  "spatialReference": {
   "wkid": 2913,
   "latestWkid": 2913
  }
 },
 "initialExtent": {
  "xmin": 7637066.531494141,
  "ymin": 675256.7801082268,
  "xmax": 7647923.309134263,
  "ymax": 692670.010925293,
  "spatialReference": {
   "wkid": 2913,
   "latestWkid": 2913
  }
 },
 "fullExtent": {
  "xmin": 7637066.531494141,
  "ymin": 675256.7801082268,
  "xmax": 7647923.309134263,
  "ymax": 692670.010925293,
  "spatialReference": {
   "wkid": 2913,
   "latestWkid": 2913
  }
 },
 "sortableFields": "",
 "bandCount": 3,
 "pixelType": "U8",
 "minValues": [
  0,
  0,
  0
 ],
 "maxValues": [
  255,
  255,
  255
 ],
 "meanValues": [
  153.50587680376,
  132.20281137759,
  103.31560041182
 ],
 "stdvValues": [
  105.78983087942,
  92.187012941552,
  72.088240633284
 ],
 "serviceProperties": "Center<\/MosaicMethod>First<\/MosaicOperator>true<\/SortAscending><\/LockImageID><\/TileOrderField>0<\/TileOrderBase>0.000000<\/AvgImageSpacingX>0.000000<\/AvgImageSpacingY>0.0<\/ViewPointX>0.0<\/ViewPointY>0.0<\/ViewPointDefShiftX>0.0<\/ViewPointDefShiftY>None<\/CompressionMethod>75<\/CompressionQuality>0.010000<\/CompressionTolerance>Bilinear<\/SamplingMethod><\/ImageServiceProperties><\/ImageServer>",
 "allowedFields": "",
 "hasMultidimensions": false,
 "pixelSizeX": 1.9657392069748305,
 "pixelSizeY": 3.282418627156674,
 "meanPixelSize": 0.7998192539216413,
 "datasetFormat": "FGDBR",
 "uncompressedSize": 87898545,
 "blockWidth": 128,
 "blockHeight": 128,
 "compressionType": "LZ77",
 "bandNames": [
  "Band_1",
  "Band_2",
  "Band_3"
 ],
 "allowCopy": true,
 "allowAnalysis": true,
 "itemAccess": false,
 "inspectionCapabilities": "",
 "minPixelSize": 0,
 "maxPixelSize": 0,
 "copyrightText": "",
 "serviceDataType": "esriImageServiceDataTypeRGB",
 "serviceSourceType": "esriImageServiceSourceTypeDataset",
 "objectIdField": "",
 "fields": [],
 "capabilities": "Image,Metadata,Mensuration",
 "defaultMosaicMethod": "Center",
 "allowedMosaicMethods": "",
 "sortField": "",
 "sortValue": null,
 "sortAscending": true,
 "mosaicOperator": "First",
 "defaultCompressionQuality": 75,
 "defaultResamplingMethod": "Bilinear",
 "maxImageHeight": 4100,
 "maxImageWidth": 15000,
 "allowRasterFunction": true,
 "rasterFunctionInfos": [
  {
   "name": "None",
   "description": "",
   "help": ""
  }
 ],
 "rasterTypeInfos": [
  {
   "name": "Raster Dataset",
   "description": "Supports all ArcGIS Raster Datasets",
   "help": ""
  }
 ],
 "mensurationCapabilities": "Basic",
 "hasHistograms": true,
 "hasColormap": false,
 "hasRasterAttributeTable": false,
 "minScale": 0,
 "maxScale": 0,
 "exportTilesAllowed": false,
 "supportsStatistics": false,
 "supportsAdvancedQueries": false,
 "editFieldsInfo": null,
 "ownershipBasedAccessControlForRasters": null,
 "allowComputeTiePoints": false,
 "useStandardizedQueries": true,
 "advancedQueryCapabilities": {
  "useStandardizedQueries": true,
  "supportsStatistics": false,
  "supportsOrderBy": false,
  "supportsDistinct": false,
  "supportsPagination": false
 },
 "spatialReference": {
  "wkid": 2913,
  "latestWkid": 2913
 }
}
