View In:
ArcGIS JavaScript
ArcGIS Online Map Viewer
ArcGIS Earth
Service Description: Public/COP_LiDAR_2019_3ft_BE_Perc_Slp_WS
Name: Public/COP_LiDAR_2019_3ft_BE_Perc_Slp_WS
Description:
Single Fused Map Cache: false
Extent:
XMin: -1.367836288034161E7
YMin: 5682840.388887224
XMax: -1.361190794594161E7
YMax: 5726619.1176872235
Spatial Reference: 102100
(3857)
LatestVCSWkid(0)
Initial Extent:
XMin: -1.367836288034161E7
YMin: 5682840.388887224
XMax: -1.361190794594161E7
YMax: 5726619.1176872235
Spatial Reference: 102100
(3857)
LatestVCSWkid(0)
Full Extent:
XMin: -1.367836288034161E7
YMin: 5682840.388887224
XMax: -1.361190794594161E7
YMax: 5726619.1176872235
Spatial Reference: 102100
(3857)
LatestVCSWkid(0)
Pixel Size X: 0.9143999999999955
Pixel Size Y: 0.9143999999999936
Band Count: 1
Pixel Type: F32
RasterFunction Infos: {"rasterFunctionInfos": [{
"name": "None",
"description": "",
"help": ""
}]}
Mensuration Capabilities: Basic
Inspection Capabilities:
Has Histograms: true
Has Colormap: false
Has Multi Dimensions : false
Rendering Rule:
Min Scale: 0
Max Scale: 0
Copyright Text:
Service Data Type: esriImageServiceDataTypeGeneric
Min Values: 1.3147444244410167E-9
Max Values: 1649.2423095703125
Mean Values: 12.198034126544847
Standard Deviation Values: 17.428156016726053
Object ID Field:
Fields:
None
Default Mosaic Method: Center
Allowed Mosaic Methods:
SortField:
SortValue: null
Mosaic Operator: First
Default Compression Quality: 75
Default Resampling Method: Bilinear
Max Record Count: null
Max Image Height: 4100
Max Image Width: 15000
Max Download Image Count: null
Max Mosaic Image Count: null
Allow Raster Function: true
Allow Copy: true
Allow Analysis: true
Allow Compute TiePoints: false
Supports Statistics: false
Supports Advanced Queries: false
Use StandardizedQueries: true
Raster Type Infos:
Name: Raster Dataset
Description: Supports all ArcGIS Raster Datasets
Help:
Has Raster Attribute Table: false
Edit Fields Info: null
Ownership Based AccessControl For Rasters: null
Child Resources:
Info
Histograms
Statistics
Key Properties
Legend
Raster Function Infos
Supported Operations:
Export Image
Identify
Measure
Compute Histograms
Compute Statistics Histograms
Get Samples
Compute Class Statistics
Query Boundary
Compute Pixel Location
Compute Angles
Validate
Project