View In:
ArcGIS JavaScript
ArcGIS Online Map Viewer
ArcGIS Earth
Service Description: Public/COP_LiDAR_2019_1ft_BE_Perc_Slp_WS
Name: Public/COP_LiDAR_2019_1ft_BE_Perc_Slp_WS
Description:
Single Fused Map Cache: false
Extent:
XMin: 7594924.53
YMin: 636499.55
XMax: 7745482.53
YMax: 733117.55
Spatial Reference: 0
(0)
LatestVCSWkid(0)
Initial Extent:
XMin: 7594924.53
YMin: 636499.55
XMax: 7745482.53
YMax: 733117.55
Spatial Reference: 0
(0)
LatestVCSWkid(0)
Full Extent:
XMin: 7594924.53
YMin: 636499.55
XMax: 7745482.53
YMax: 733117.55
Spatial Reference: 0
(0)
LatestVCSWkid(0)
Pixel Size X: 1.0
Pixel Size Y: 1.0
Band Count: 1
Pixel Type: F32
RasterFunction Infos: {"rasterFunctionInfos": [{
"name": "None",
"description": "",
"help": ""
}]}
Mensuration Capabilities: Basic
Inspection Capabilities:
Has Histograms: true
Has Colormap: false
Has Multi Dimensions : false
Rendering Rule:
Min Scale: 0
Max Scale: 0
Copyright Text:
Service Data Type: esriImageServiceDataTypeGeneric
Min Values: 9.276403256652799E-11
Max Values: 4343.9970703125
Mean Values: 13.859893784806491
Standard Deviation Values: 19.66873038371565
Object ID Field:
Fields:
None
Default Mosaic Method: Center
Allowed Mosaic Methods:
SortField:
SortValue: null
Mosaic Operator: First
Default Compression Quality: 75
Default Resampling Method: Bilinear
Max Record Count: null
Max Image Height: 4100
Max Image Width: 15000
Max Download Image Count: null
Max Mosaic Image Count: null
Allow Raster Function: true
Allow Copy: true
Allow Analysis: true
Allow Compute TiePoints: false
Supports Statistics: false
Supports Advanced Queries: false
Use StandardizedQueries: true
Raster Type Infos:
Name: Raster Dataset
Description: Supports all ArcGIS Raster Datasets
Help:
Has Raster Attribute Table: false
Edit Fields Info: null
Ownership Based AccessControl For Rasters: null
Child Resources:
Info
Histograms
Statistics
Key Properties
Legend
Raster Function Infos
Supported Operations:
Export Image
Identify
Measure
Compute Histograms
Compute Statistics Histograms
Get Samples
Compute Class Statistics
Query Boundary
Compute Pixel Location
Compute Angles
Validate
Project