View In:
ArcGIS JavaScript
ArcGIS Online Map Viewer
ArcGIS Earth
Service Description: Public/COP_LiDAR_2014_2ft_FHM_WS
Name: Public/COP_LiDAR_2014_2ft_FHM_WS
Description:
Single Fused Map Cache: false
Extent:
XMin: -1.3678362871571949E7
YMin: 5682840.900557764
XMax: -1.361190854677195E7
YMax: 5726619.3245577635
Spatial Reference: 102100
(3857)
LatestVCSWkid(0)
Initial Extent:
XMin: -1.3678362871571949E7
YMin: 5682840.900557764
XMax: -1.361190854677195E7
YMax: 5726619.3245577635
Spatial Reference: 102100
(3857)
LatestVCSWkid(0)
Full Extent:
XMin: -1.3678362871571949E7
YMin: 5682840.900557764
XMax: -1.361190854677195E7
YMax: 5726619.3245577635
Spatial Reference: 102100
(3857)
LatestVCSWkid(0)
Pixel Size X: 0.6095999999999963
Pixel Size Y: 0.6095999999999951
Band Count: 1
Pixel Type: F32
RasterFunction Infos: {"rasterFunctionInfos": [{
"name": "None",
"description": "",
"help": ""
}]}
Mensuration Capabilities: Basic
Inspection Capabilities:
Has Histograms: true
Has Colormap: false
Has Multi Dimensions : false
Rendering Rule:
Min Scale: 0
Max Scale: 0
Copyright Text:
Service Data Type: esriImageServiceDataTypeGeneric
Min Values: -127.29034423828125
Max Values: 986.578369140625
Mean Values: 22.145904425025957
Standard Deviation Values: 32.9149800966869
Object ID Field:
Fields:
None
Default Mosaic Method: Center
Allowed Mosaic Methods:
SortField:
SortValue: null
Mosaic Operator: First
Default Compression Quality: 75
Default Resampling Method: Bilinear
Max Record Count: null
Max Image Height: 4100
Max Image Width: 15000
Max Download Image Count: null
Max Mosaic Image Count: null
Allow Raster Function: true
Allow Copy: true
Allow Analysis: true
Allow Compute TiePoints: false
Supports Statistics: false
Supports Advanced Queries: false
Use StandardizedQueries: true
Raster Type Infos:
Name: Raster Dataset
Description: Supports all ArcGIS Raster Datasets
Help:
Has Raster Attribute Table: false
Edit Fields Info: null
Ownership Based AccessControl For Rasters: null
Child Resources:
Info
Histograms
Statistics
Key Properties
Legend
Raster Function Infos
Supported Operations:
Export Image
Identify
Measure
Compute Histograms
Compute Statistics Histograms
Get Samples
Compute Class Statistics
Query Boundary
Compute Pixel Location
Compute Angles
Validate
Project