View In:
ArcGIS JavaScript
ArcGIS Online Map Viewer
ArcGIS Earth
Service Description: Public/COP_LiDAR_2007_3ft_Perc_Slp_Reg
Name: Public/COP_LiDAR_2007_3ft_Perc_Slp_Reg
Description:
Single Fused Map Cache: false
Extent:
XMin: -1.3684340195383385E7
YMin: 5676679.500391267
XMax: -1.3606574132983385E7
YMax: 5731895.544391267
Spatial Reference: 102100
(3857)
LatestVCSWkid(0)
Initial Extent:
XMin: -1.3684340195383385E7
YMin: 5676679.500391267
XMax: -1.3606574132983385E7
YMax: 5731895.544391267
Spatial Reference: 102100
(3857)
LatestVCSWkid(0)
Full Extent:
XMin: -1.3684340195383385E7
YMin: 5676679.500391267
XMax: -1.3606574132983385E7
YMax: 5731895.544391267
Spatial Reference: 102100
(3857)
LatestVCSWkid(0)
Pixel Size X: 0.914400000000002
Pixel Size Y: 0.9143999999999961
Band Count: 1
Pixel Type: F32
RasterFunction Infos: {"rasterFunctionInfos": [{
"name": "None",
"description": "",
"help": ""
}]}
Mensuration Capabilities: Basic
Inspection Capabilities:
Has Histograms: true
Has Colormap: false
Has Multi Dimensions : false
Rendering Rule:
Min Scale: 0
Max Scale: 0
Copyright Text:
Service Data Type: esriImageServiceDataTypeGeneric
Min Values: 0
Max Values: 820.882568359375
Mean Values: 11.543734909016456
Standard Deviation Values: 24.62946498622836
Object ID Field:
Fields:
None
Default Mosaic Method: Center
Allowed Mosaic Methods:
SortField:
SortValue: null
Mosaic Operator: First
Default Compression Quality: 75
Default Resampling Method: Bilinear
Max Record Count: null
Max Image Height: 4100
Max Image Width: 15000
Max Download Image Count: null
Max Mosaic Image Count: null
Allow Raster Function: true
Allow Copy: true
Allow Analysis: true
Allow Compute TiePoints: false
Supports Statistics: false
Supports Advanced Queries: false
Use StandardizedQueries: true
Raster Type Infos:
Name: Raster Dataset
Description: Supports all ArcGIS Raster Datasets
Help:
Has Raster Attribute Table: false
Edit Fields Info: null
Ownership Based AccessControl For Rasters: null
Child Resources:
Info
Histograms
Statistics
Key Properties
Legend
Raster Function Infos
Supported Operations:
Export Image
Identify
Measure
Compute Histograms
Compute Statistics Histograms
Get Samples
Compute Class Statistics
Query Boundary
Compute Pixel Location
Compute Angles
Validate
Project