<?xml version="1.0" encoding="UTF-8" standalone="no"?>
<metadata xml:lang="en">
<Esri>
<CreaDate>20121128</CreaDate>
<CreaTime>17192800</CreaTime>
<SyncOnce>FALSE</SyncOnce>
<SyncDate>20241114</SyncDate>
<SyncTime>11151600</SyncTime>
<ModDate>20241114</ModDate>
<ModTime>11151600</ModTime>
<DataProperties>
<lineage>
<Process Date="20121128" Time="165920" ToolSource="C:\Program Files\ArcGIS\ArcToolbox\Toolboxes\Data Management Tools.tbx\RasterCatalogToRasterDataset">RasterCatalogToRasterDataset C:\Testing.mdb\RR_Extra "C:\Documents and Settings\jwilson\Desktop\RR_Extra.jp2" # MINIMUM FIRST # NONE 8_BIT_UNSIGNED NONE NONE CACULATE_FROM_ALL #</Process>
</lineage>
<itemProps>
<itemName Sync="TRUE">RR_Extra</itemName>
<imsContentType Sync="TRUE">002</imsContentType>
<nativeExtBox>
<westBL Sync="TRUE">7637066.531494</westBL>
<eastBL Sync="TRUE">7647923.309134</eastBL>
<southBL Sync="TRUE">675256.780108</southBL>
<northBL Sync="TRUE">692670.010925</northBL>
<exTypeCode Sync="TRUE">1</exTypeCode>
</nativeExtBox>
<itemLocation>
<linkage Sync="TRUE">file://\\CGISAGSDEV8\D$\Data_Static\PBOT_Railroad_Ordinance.gdb</linkage>
<protocol Sync="TRUE">Local Area Network</protocol>
</itemLocation>
</itemProps>
<coordRef>
<type Sync="TRUE">Projected</type>
<geogcsn Sync="TRUE">GCS_North_American_1983_HARN</geogcsn>
<csUnits Sync="TRUE">Linear Unit: Foot (0.304800)</csUnits>
<projcsn Sync="TRUE">NAD_1983_HARN_StatePlane_Oregon_North_FIPS_3601_Feet_Intl</projcsn>
<peXml Sync="TRUE">&lt;ProjectedCoordinateSystem xsi:type='typens:ProjectedCoordinateSystem' xmlns:xsi='http://www.w3.org/2001/XMLSchema-instance' xmlns:xs='http://www.w3.org/2001/XMLSchema' xmlns:typens='http://www.esri.com/schemas/ArcGIS/10.8'&gt;&lt;WKT&gt;PROJCS[&amp;quot;NAD_1983_HARN_StatePlane_Oregon_North_FIPS_3601_Feet_Intl&amp;quot;,GEOGCS[&amp;quot;GCS_North_American_1983_HARN&amp;quot;,DATUM[&amp;quot;D_North_American_1983_HARN&amp;quot;,SPHEROID[&amp;quot;GRS_1980&amp;quot;,6378137.0,298.257222101]],PRIMEM[&amp;quot;Greenwich&amp;quot;,0.0],UNIT[&amp;quot;Degree&amp;quot;,0.0174532925199433]],PROJECTION[&amp;quot;Lambert_Conformal_Conic&amp;quot;],PARAMETER[&amp;quot;False_Easting&amp;quot;,8202099.737532808],PARAMETER[&amp;quot;False_Northing&amp;quot;,0.0],PARAMETER[&amp;quot;Central_Meridian&amp;quot;,-120.5],PARAMETER[&amp;quot;Standard_Parallel_1&amp;quot;,44.33333333333334],PARAMETER[&amp;quot;Standard_Parallel_2&amp;quot;,46.0],PARAMETER[&amp;quot;Latitude_Of_Origin&amp;quot;,43.66666666666666],UNIT[&amp;quot;Foot&amp;quot;,0.3048],AUTHORITY[&amp;quot;EPSG&amp;quot;,2913]]&lt;/WKT&gt;&lt;XOrigin&gt;-111333600&lt;/XOrigin&gt;&lt;YOrigin&gt;-98152500&lt;/YOrigin&gt;&lt;XYScale&gt;37675770.731007516&lt;/XYScale&gt;&lt;ZOrigin&gt;-100000&lt;/ZOrigin&gt;&lt;ZScale&gt;10000&lt;/ZScale&gt;&lt;MOrigin&gt;-100000&lt;/MOrigin&gt;&lt;MScale&gt;10000&lt;/MScale&gt;&lt;XYTolerance&gt;0.0032808398950131233&lt;/XYTolerance&gt;&lt;ZTolerance&gt;0.001&lt;/ZTolerance&gt;&lt;MTolerance&gt;0.001&lt;/MTolerance&gt;&lt;HighPrecision&gt;true&lt;/HighPrecision&gt;&lt;WKID&gt;2913&lt;/WKID&gt;&lt;LatestWKID&gt;2913&lt;/LatestWKID&gt;&lt;/ProjectedCoordinateSystem&gt;</peXml>
</coordRef>
</DataProperties>
<MetaID>{A01B55D9-A1DB-47BB-8971-BB6A97A09A6B}</MetaID>
</Esri>
<idinfo>
<native Sync="TRUE">Microsoft Windows XP Version 5.1 (Build 2600) Service Pack 3; ESRI ArcCatalog 9.3.1.4000</native>
<descript>
<langdata Sync="TRUE">en</langdata>
<abstract>Miscellaneous but relevant railroad maps from the original book of railroad ordinances</abstract>
<purpose>A digital working copy of an obsolete ordinance tracking system for railroads</purpose>
</descript>
<citation>
<citeinfo>
<origin>REQUIRED: The name of an organization or individual that developed the data set.</origin>
<pubdate>REQUIRED: The date when the data set is published or otherwise made available for release.</pubdate>
<title Sync="TRUE">RR_Extra.jp2</title>
<ftname Sync="TRUE">RR_Extra.jp2</ftname>
<onlink Sync="TRUE">\\pdotmaps\Images\RRMaps\RR_Extra.jp2</onlink>
<geoform Sync="TRUE">raster digital data</geoform>
</citeinfo>
</citation>
<timeperd>
<current>publication date</current>
<timeinfo>
<sngdate>
<caldate>11/28/2012</caldate>
<time>17:00</time>
</sngdate>
</timeinfo>
</timeperd>
<status>
<progress>Complete</progress>
<update>None planned</update>
</status>
<spdom>
<bounding>
<westbc Sync="TRUE">-122.705744</westbc>
<eastbc Sync="TRUE">-122.661564</eastbc>
<northbc Sync="TRUE">45.546250</northbc>
<southbc Sync="TRUE">45.497703</southbc>
</bounding>
<lboundng>
<leftbc Sync="TRUE">7637066.531494</leftbc>
<rightbc Sync="TRUE">7647923.309134</rightbc>
<bottombc Sync="TRUE">675256.780108</bottombc>
<topbc Sync="TRUE">692670.010925</topbc>
</lboundng>
</spdom>
<keywords>
<theme>
<themekey>railroad</themekey>
<themekey>rail</themekey>
<themekey>ordinance</themekey>
</theme>
</keywords>
<accconst>none, public</accconst>
<useconst>none, public</useconst>
<natvform Sync="TRUE">Raster Dataset</natvform>
<ptcontac>
<cntinfo>
<cntperp>
<cntper>John Wilson</cntper>
<cntorg>Portland Bureau of Transportation Street Systems Management</cntorg>
</cntperp>
<cntpos>Engineering Technician II</cntpos>
<cntvoice>5038237092</cntvoice>
<cntemail>john.wilson@portlandoregon.gov</cntemail>
</cntinfo>
</ptcontac>
</idinfo>
<dataIdInfo>
<envirDesc Sync="TRUE"> Version 6.2 (Build 9200) ; Esri ArcGIS 10.9.1.28388</envirDesc>
<dataLang>
<languageCode Sync="TRUE" value="eng"/>
<countryCode Sync="TRUE" value="USA"/>
</dataLang>
<idCitation>
<resTitle Sync="TRUE">PBOT_Railroad_Ordinance_Downtown</resTitle>
<presForm>
<PresFormCd Sync="TRUE" value="011"/>
</presForm>
</idCitation>
<spatRpType>
<SpatRepTypCd Sync="TRUE" value="002"/>
</spatRpType>
<dataExt>
<geoEle>
<GeoBndBox esriExtentType="native">
<westBL Sync="TRUE">7637066.531494</westBL>
<eastBL Sync="TRUE">7647923.309134</eastBL>
<northBL Sync="TRUE">692670.010925</northBL>
<southBL Sync="TRUE">675256.780108</southBL>
<exTypeCode Sync="TRUE">1</exTypeCode>
</GeoBndBox>
</geoEle>
</dataExt>
<geoBox esriExtentType="decdegrees">
<westBL Sync="TRUE">-122.705744</westBL>
<eastBL Sync="TRUE">-122.661564</eastBL>
<northBL Sync="TRUE">45.54625</northBL>
<southBL Sync="TRUE">45.497703</southBL>
<exTypeCode Sync="TRUE">1</exTypeCode>
</geoBox>
<dataExt>
<geoEle>
<GeoBndBox esriExtentType="search">
<exTypeCode Sync="TRUE">1</exTypeCode>
<westBL Sync="TRUE">-122.705744</westBL>
<eastBL Sync="TRUE">-122.661564</eastBL>
<northBL Sync="TRUE">45.546250</northBL>
<southBL Sync="TRUE">45.497703</southBL>
</GeoBndBox>
</geoEle>
</dataExt>
<idAbs/>
<searchKeys>
<keyword>railroad</keyword>
<keyword>ordinance</keyword>
<keyword>downtown</keyword>
<keyword>City of Portland</keyword>
<keyword>Portland</keyword>
<keyword>PDX</keyword>
</searchKeys>
<idPurp>City of Portland Downtown Railroad Ordinance</idPurp>
<idCredit/>
<resConst>
<Consts>
<useLimit/>
</Consts>
</resConst>
</dataIdInfo>
<metainfo>
<langmeta Sync="TRUE">en</langmeta>
<metstdn Sync="TRUE">FGDC Content Standards for Digital Geospatial Metadata</metstdn>
<metstdv Sync="TRUE">FGDC-STD-001-1998</metstdv>
<mettc Sync="TRUE">local time</mettc>
<metc>
<cntinfo>
<cntorgp>
<cntper>REQUIRED: The person responsible for the metadata information.</cntper>
<cntorg>REQUIRED: The organization responsible for the metadata information.</cntorg>
</cntorgp>
<cntaddr>
<addrtype>REQUIRED: The mailing and/or physical address for the organization or individual.</addrtype>
<city>REQUIRED: The city of the address.</city>
<state>REQUIRED: The state or province of the address.</state>
<postal>REQUIRED: The ZIP or other postal code of the address.</postal>
</cntaddr>
<cntvoice>REQUIRED: The telephone number by which individuals can speak to the organization or individual.</cntvoice>
</cntinfo>
</metc>
<metd Sync="TRUE">20121128</metd>
</metainfo>
<mdLang>
<languageCode Sync="TRUE" value="eng"/>
<countryCode Sync="TRUE" value="USA"/>
</mdLang>
<mdStanName Sync="TRUE">ISO 19115 Geographic Information - Metadata</mdStanName>
<mdStanVer Sync="TRUE">DIS_ESRI1.0</mdStanVer>
<mdChar>
<CharSetCd Sync="TRUE" value="004"/>
</mdChar>
<mdHrLv>
<ScopeCd Sync="TRUE" value="005"/>
</mdHrLv>
<mdHrLvName Sync="TRUE">dataset</mdHrLvName>
<distInfo>
<distributor>
<distorTran>
<onLineSrc>
<linkage Sync="TRUE">file://\\pdotmaps\Images\RRMaps\RR_Extra.jp2</linkage>
<protocol Sync="TRUE">Local Area Network</protocol>
<orDesc Sync="TRUE">002</orDesc>
</onLineSrc>
</distorTran>
<distorFormat>
<formatName Sync="TRUE">Raster Dataset</formatName>
</distorFormat>
</distributor>
<distFormat>
<formatName Sync="TRUE">File Geodatabase Raster Dataset</formatName>
</distFormat>
</distInfo>
<distinfo>
<resdesc Sync="TRUE">Downloadable Data</resdesc>
</distinfo>
<spdoinfo>
<direct Sync="TRUE">Raster</direct>
<rastinfo>
<rasttype Sync="TRUE">Pixel</rasttype>
<rowcount Sync="TRUE">5305</rowcount>
<colcount Sync="TRUE">5523</colcount>
<rastxsz Sync="TRUE">1.965739</rastxsz>
<rastysz Sync="TRUE">3.282419</rastysz>
<rastbpp Sync="TRUE">8</rastbpp>
<vrtcount Sync="TRUE">1</vrtcount>
<rastorig Sync="TRUE">Upper Left</rastorig>
<rastcmap Sync="TRUE">FALSE</rastcmap>
<rastcomp Sync="TRUE">LZ77</rastcomp>
<rastband Sync="TRUE">3</rastband>
<rastdtyp Sync="TRUE">pixel codes</rastdtyp>
<rastifor Sync="TRUE">FGDBR</rastifor>
<rastplyr Sync="TRUE">TRUE</rastplyr>
</rastinfo>
</spdoinfo>
<spref>
<horizsys>
<cordsysn>
<geogcsn Sync="TRUE">GCS_North_American_1983_HARN</geogcsn>
<projcsn Sync="TRUE">NAD_1983_HARN_StatePlane_Oregon_North_FIPS_3601_Feet_Intl</projcsn>
</cordsysn>
<planar>
<planci>
<plance Sync="TRUE">row and column</plance>
<plandu Sync="TRUE">international feet</plandu>
<coordrep>
<absres Sync="TRUE">1.965739</absres>
<ordres Sync="TRUE">3.282419</ordres>
</coordrep>
</planci>
</planar>
<geodetic>
<horizdn Sync="TRUE">D_North_American_1983_HARN</horizdn>
<ellips Sync="TRUE">Geodetic Reference System 80</ellips>
<semiaxis Sync="TRUE">6378137.000000</semiaxis>
<denflat Sync="TRUE">298.257222</denflat>
</geodetic>
</horizsys>
</spref>
<refSysInfo>
<RefSystem>
<refSysID>
<identCode Sync="TRUE" code="2913">NAD_1983_HARN_StatePlane_Oregon_North_FIPS_3601_Feet_Intl</identCode>
<idCodeSpace Sync="TRUE">EPSG</idCodeSpace>
<idVersion Sync="TRUE">6.3(9.0.0)</idVersion>
</refSysID>
</RefSystem>
</refSysInfo>
<mdDateSt Sync="TRUE">20241114</mdDateSt>
<dataqual>
<lineage>
<procstep>
<procdesc>Original 400DPI 8bit per channel RGB scans were compressed to 60% using gdal_translate with the following string : gdal_translate -outsize 60% 60% -co COMPRESS=LZW -a_nodata "0 0 0" $tif.Name Small\$newFile
Then, the data was imported into an unmanaged raster catalog in ArcGIS9.3 and converted into a raster dataset using "Raster Catalog to Raster Dataset" with a mosaic type of "minimum", using a JPEG 2000 format and 10% quality/compression ratio.</procdesc>
<procsv>gdal_translate</procsv>
<procdate>11/28/2012</procdate>
<proctime>17:00</proctime>
</procstep>
<procstep>
<procdesc Sync="TRUE">Dataset copied.</procdesc>
<srcused Sync="TRUE">C:\Documents and Settings\jwilson\Desktop\RR_Extra.jp2</srcused>
<procdate Sync="TRUE">20121128</procdate>
<proctime Sync="TRUE">17192800</proctime>
</procstep>
</lineage>
</dataqual>
</metadata>
