{
 "currentVersion": 11.5,
 "serviceDescription": "Public/COP_LiDAR_2019_1ft_FR_DSM_WS",
 "name": "Public/COP_LiDAR_2019_1ft_FR_DSM_WS",
 "description": "",
 "extent": {
  "xmin": 7594924.53,
  "ymin": 636499.55,
  "xmax": 7745482.53,
  "ymax": 733117.55,
  "spatialReference": {
   "wkt2": "COMPOUNDCRS[\"\",PROJCRS[\"NAD83(2011) / Oregon North (ft)\",BASEGEOGCRS[\"NAD83(2011)\",DATUM[\"NAD83_National_Spatial_Reference_System_2011\",ELLIPSOID[\"GRS 1980\",6378137.0,298.257222101,LENGTHUNIT[\"Meter\",1.0]]],PRIMEM[\"Greenwich\",0.0,ANGLEUNIT[\"Degree\",0.0174532925199433]],CS[ellipsoidal,2],AXIS[\"Latitude (lat)\",north,ORDER[1]],AXIS[\"Longitude (lon)\",east,ORDER[2]],ANGLEUNIT[\"degree\",0.0174532925199433]],CONVERSION[\"Lambert_Conformal_Conic_2SP\",METHOD[\"Lambert_Conformal_Conic_2SP\"],PARAMETER[\"false_easting\",8202099.738,LENGTHUNIT[\"foot\",0.3048]],PARAMETER[\"false_northing\",0.0,LENGTHUNIT[\"foot\",0.3048]],PARAMETER[\"central_meridian\",-120.5,ANGLEUNIT[\"degree\",0.0174532925199433]],PARAMETER[\"standard_parallel_1\",44.33333333333334,ANGLEUNIT[\"degree\",0.0174532925199433]],PARAMETER[\"standard_parallel_2\",46.0,ANGLEUNIT[\"degree\",0.0174532925199433]],PARAMETER[\"latitude_of_origin\",43.66666666666666,ANGLEUNIT[\"degree\",0.0174532925199433]]],CS[Cartesian,2],AXIS[\"Easting (X)\",east,ORDER[1]],AXIS[\"Northing (Y)\",north,ORDER[2]],LENGTHUNIT[\"foot\",0.3048]],VERTCRS[\"NAVD88 height - Geoid12B (Intl Feet)\",VDATUM[\"North American Vertical Datum 1988\"],CS[vertical,1],AXIS[\"Gravity-related height (H)\",up,LENGTHUNIT[\"foot\",0.3048]]]]",
   "wkt": "PROJCS[\"NAD83(2011) / Oregon North (ft)\",GEOGCS[\"NAD83(2011)\",DATUM[\"NAD83_National_Spatial_Reference_System_2011\",SPHEROID[\"GRS 1980\",6378137.0,298.257222101]],PRIMEM[\"Greenwich\",0.0],UNIT[\"degree\",0.0174532925199433]],PROJECTION[\"Lambert_Conformal_Conic_2SP\"],PARAMETER[\"false_easting\",8202099.738],PARAMETER[\"false_northing\",0.0],PARAMETER[\"central_meridian\",-120.5],PARAMETER[\"standard_parallel_1\",44.33333333333334],PARAMETER[\"standard_parallel_2\",46.0],PARAMETER[\"latitude_of_origin\",43.66666666666666],UNIT[\"foot\",0.3048]],VERTCS[\"NAVD88 height - Geoid12B (Intl Feet)\",VDATUM[\"North American Vertical Datum 1988\"],PARAMETER[\"Vertical_Shift\",0.0],PARAMETER[\"Direction\",1.0],UNIT[\"foot\",0.3048]]"
  }
 },
 "initialExtent": {
  "xmin": 7594924.53,
  "ymin": 636499.55,
  "xmax": 7745482.53,
  "ymax": 733117.55,
  "spatialReference": {
   "wkt2": "COMPOUNDCRS[\"\",PROJCRS[\"NAD83(2011) / Oregon North (ft)\",BASEGEOGCRS[\"NAD83(2011)\",DATUM[\"NAD83_National_Spatial_Reference_System_2011\",ELLIPSOID[\"GRS 1980\",6378137.0,298.257222101,LENGTHUNIT[\"Meter\",1.0]]],PRIMEM[\"Greenwich\",0.0,ANGLEUNIT[\"Degree\",0.0174532925199433]],CS[ellipsoidal,2],AXIS[\"Latitude (lat)\",north,ORDER[1]],AXIS[\"Longitude (lon)\",east,ORDER[2]],ANGLEUNIT[\"degree\",0.0174532925199433]],CONVERSION[\"Lambert_Conformal_Conic_2SP\",METHOD[\"Lambert_Conformal_Conic_2SP\"],PARAMETER[\"false_easting\",8202099.738,LENGTHUNIT[\"foot\",0.3048]],PARAMETER[\"false_northing\",0.0,LENGTHUNIT[\"foot\",0.3048]],PARAMETER[\"central_meridian\",-120.5,ANGLEUNIT[\"degree\",0.0174532925199433]],PARAMETER[\"standard_parallel_1\",44.33333333333334,ANGLEUNIT[\"degree\",0.0174532925199433]],PARAMETER[\"standard_parallel_2\",46.0,ANGLEUNIT[\"degree\",0.0174532925199433]],PARAMETER[\"latitude_of_origin\",43.66666666666666,ANGLEUNIT[\"degree\",0.0174532925199433]]],CS[Cartesian,2],AXIS[\"Easting (X)\",east,ORDER[1]],AXIS[\"Northing (Y)\",north,ORDER[2]],LENGTHUNIT[\"foot\",0.3048]],VERTCRS[\"NAVD88 height - Geoid12B (Intl Feet)\",VDATUM[\"North American Vertical Datum 1988\"],CS[vertical,1],AXIS[\"Gravity-related height (H)\",up,LENGTHUNIT[\"foot\",0.3048]]]]",
   "wkt": "PROJCS[\"NAD83(2011) / Oregon North (ft)\",GEOGCS[\"NAD83(2011)\",DATUM[\"NAD83_National_Spatial_Reference_System_2011\",SPHEROID[\"GRS 1980\",6378137.0,298.257222101]],PRIMEM[\"Greenwich\",0.0],UNIT[\"degree\",0.0174532925199433]],PROJECTION[\"Lambert_Conformal_Conic_2SP\"],PARAMETER[\"false_easting\",8202099.738],PARAMETER[\"false_northing\",0.0],PARAMETER[\"central_meridian\",-120.5],PARAMETER[\"standard_parallel_1\",44.33333333333334],PARAMETER[\"standard_parallel_2\",46.0],PARAMETER[\"latitude_of_origin\",43.66666666666666],UNIT[\"foot\",0.3048]],VERTCS[\"NAVD88 height - Geoid12B (Intl Feet)\",VDATUM[\"North American Vertical Datum 1988\"],PARAMETER[\"Vertical_Shift\",0.0],PARAMETER[\"Direction\",1.0],UNIT[\"foot\",0.3048]]"
  }
 },
 "fullExtent": {
  "xmin": 7594924.53,
  "ymin": 636499.55,
  "xmax": 7745482.53,
  "ymax": 733117.55,
  "spatialReference": {
   "wkt2": "COMPOUNDCRS[\"\",PROJCRS[\"NAD83(2011) / Oregon North (ft)\",BASEGEOGCRS[\"NAD83(2011)\",DATUM[\"NAD83_National_Spatial_Reference_System_2011\",ELLIPSOID[\"GRS 1980\",6378137.0,298.257222101,LENGTHUNIT[\"Meter\",1.0]]],PRIMEM[\"Greenwich\",0.0,ANGLEUNIT[\"Degree\",0.0174532925199433]],CS[ellipsoidal,2],AXIS[\"Latitude (lat)\",north,ORDER[1]],AXIS[\"Longitude (lon)\",east,ORDER[2]],ANGLEUNIT[\"degree\",0.0174532925199433]],CONVERSION[\"Lambert_Conformal_Conic_2SP\",METHOD[\"Lambert_Conformal_Conic_2SP\"],PARAMETER[\"false_easting\",8202099.738,LENGTHUNIT[\"foot\",0.3048]],PARAMETER[\"false_northing\",0.0,LENGTHUNIT[\"foot\",0.3048]],PARAMETER[\"central_meridian\",-120.5,ANGLEUNIT[\"degree\",0.0174532925199433]],PARAMETER[\"standard_parallel_1\",44.33333333333334,ANGLEUNIT[\"degree\",0.0174532925199433]],PARAMETER[\"standard_parallel_2\",46.0,ANGLEUNIT[\"degree\",0.0174532925199433]],PARAMETER[\"latitude_of_origin\",43.66666666666666,ANGLEUNIT[\"degree\",0.0174532925199433]]],CS[Cartesian,2],AXIS[\"Easting (X)\",east,ORDER[1]],AXIS[\"Northing (Y)\",north,ORDER[2]],LENGTHUNIT[\"foot\",0.3048]],VERTCRS[\"NAVD88 height - Geoid12B (Intl Feet)\",VDATUM[\"North American Vertical Datum 1988\"],CS[vertical,1],AXIS[\"Gravity-related height (H)\",up,LENGTHUNIT[\"foot\",0.3048]]]]",
   "wkt": "PROJCS[\"NAD83(2011) / Oregon North (ft)\",GEOGCS[\"NAD83(2011)\",DATUM[\"NAD83_National_Spatial_Reference_System_2011\",SPHEROID[\"GRS 1980\",6378137.0,298.257222101]],PRIMEM[\"Greenwich\",0.0],UNIT[\"degree\",0.0174532925199433]],PROJECTION[\"Lambert_Conformal_Conic_2SP\"],PARAMETER[\"false_easting\",8202099.738],PARAMETER[\"false_northing\",0.0],PARAMETER[\"central_meridian\",-120.5],PARAMETER[\"standard_parallel_1\",44.33333333333334],PARAMETER[\"standard_parallel_2\",46.0],PARAMETER[\"latitude_of_origin\",43.66666666666666],UNIT[\"foot\",0.3048]],VERTCS[\"NAVD88 height - Geoid12B (Intl Feet)\",VDATUM[\"North American Vertical Datum 1988\"],PARAMETER[\"Vertical_Shift\",0.0],PARAMETER[\"Direction\",1.0],UNIT[\"foot\",0.3048]]"
  }
 },
 "sortableFields": "",
 "heightModelInfo": {
  "heightModel": "gravity_related_height",
  "vertCRS": "NAVD88 height - Geoid12B (Intl Feet)",
  "heightUnit": "foot"
 },
 "bandCount": 1,
 "pixelType": "F32",
 "minValues": [
  -222.2100067138672
 ],
 "maxValues": [
  2193.419921875
 ],
 "meanValues": [
  309.9993668846909
 ],
 "stdvValues": [
  259.31107699878964
 ],
 "serviceProperties": "Center<\/MosaicMethod>First<\/MosaicOperator>true<\/SortAscending><\/LockImageID><\/TileOrderField>0<\/TileOrderBase>0.000000<\/AvgImageSpacingX>0.000000<\/AvgImageSpacingY>0.0<\/ViewPointX>0.0<\/ViewPointY>0.0<\/ViewPointDefShiftX>0.0<\/ViewPointDefShiftY>None<\/CompressionMethod>75<\/CompressionQuality>0.010000<\/CompressionTolerance>Bilinear<\/SamplingMethod><\/ImageServiceProperties><\/ImageServer>",
 "allowedFields": "",
 "hasMultidimensions": false,
 "pixelSizeX": 1,
 "pixelSizeY": 1,
 "meanPixelSize": 0.3048,
 "datasetFormat": "FGDBR",
 "uncompressedSize": 58186451376,
 "blockWidth": 128,
 "blockHeight": 128,
 "compressionType": "LZ77",
 "bandNames": [
  "Band_1"
 ],
 "allowCopy": true,
 "allowAnalysis": true,
 "itemAccess": false,
 "inspectionCapabilities": "",
 "minPixelSize": 0,
 "maxPixelSize": 0,
 "copyrightText": "",
 "serviceDataType": "esriImageServiceDataTypeGeneric",
 "serviceSourceType": "esriImageServiceSourceTypeDataset",
 "objectIdField": "",
 "fields": [],
 "capabilities": "Image,Metadata,Mensuration",
 "defaultMosaicMethod": "Center",
 "allowedMosaicMethods": "",
 "sortField": "",
 "sortValue": null,
 "sortAscending": true,
 "mosaicOperator": "First",
 "defaultCompressionQuality": 75,
 "defaultResamplingMethod": "Bilinear",
 "maxImageHeight": 4100,
 "maxImageWidth": 15000,
 "allowRasterFunction": true,
 "rasterFunctionInfos": [
  {
   "name": "None",
   "description": "",
   "help": ""
  }
 ],
 "rasterTypeInfos": [
  {
   "name": "Raster Dataset",
   "description": "Supports all ArcGIS Raster Datasets",
   "help": ""
  }
 ],
 "mensurationCapabilities": "Basic",
 "hasHistograms": true,
 "hasColormap": false,
 "hasRasterAttributeTable": false,
 "minScale": 0,
 "maxScale": 0,
 "exportTilesAllowed": false,
 "supportsStatistics": false,
 "supportsAdvancedQueries": false,
 "editFieldsInfo": null,
 "ownershipBasedAccessControlForRasters": null,
 "allowComputeTiePoints": false,
 "useStandardizedQueries": true,
 "advancedQueryCapabilities": {
  "useStandardizedQueries": true,
  "supportsStatistics": false,
  "supportsOrderBy": false,
  "supportsDistinct": false,
  "supportsPagination": false
 },
 "spatialReference": {
  "wkt2": "COMPOUNDCRS[\"\",PROJCRS[\"NAD83(2011) / Oregon North (ft)\",BASEGEOGCRS[\"NAD83(2011)\",DATUM[\"NAD83_National_Spatial_Reference_System_2011\",ELLIPSOID[\"GRS 1980\",6378137.0,298.257222101,LENGTHUNIT[\"Meter\",1.0]]],PRIMEM[\"Greenwich\",0.0,ANGLEUNIT[\"Degree\",0.0174532925199433]],CS[ellipsoidal,2],AXIS[\"Latitude (lat)\",north,ORDER[1]],AXIS[\"Longitude (lon)\",east,ORDER[2]],ANGLEUNIT[\"degree\",0.0174532925199433]],CONVERSION[\"Lambert_Conformal_Conic_2SP\",METHOD[\"Lambert_Conformal_Conic_2SP\"],PARAMETER[\"false_easting\",8202099.738,LENGTHUNIT[\"foot\",0.3048]],PARAMETER[\"false_northing\",0.0,LENGTHUNIT[\"foot\",0.3048]],PARAMETER[\"central_meridian\",-120.5,ANGLEUNIT[\"degree\",0.0174532925199433]],PARAMETER[\"standard_parallel_1\",44.33333333333334,ANGLEUNIT[\"degree\",0.0174532925199433]],PARAMETER[\"standard_parallel_2\",46.0,ANGLEUNIT[\"degree\",0.0174532925199433]],PARAMETER[\"latitude_of_origin\",43.66666666666666,ANGLEUNIT[\"degree\",0.0174532925199433]]],CS[Cartesian,2],AXIS[\"Easting (X)\",east,ORDER[1]],AXIS[\"Northing (Y)\",north,ORDER[2]],LENGTHUNIT[\"foot\",0.3048]],VERTCRS[\"NAVD88 height - Geoid12B (Intl Feet)\",VDATUM[\"North American Vertical Datum 1988\"],CS[vertical,1],AXIS[\"Gravity-related height (H)\",up,LENGTHUNIT[\"foot\",0.3048]]]]",
  "wkt": "PROJCS[\"NAD83(2011) / Oregon North (ft)\",GEOGCS[\"NAD83(2011)\",DATUM[\"NAD83_National_Spatial_Reference_System_2011\",SPHEROID[\"GRS 1980\",6378137.0,298.257222101]],PRIMEM[\"Greenwich\",0.0],UNIT[\"degree\",0.0174532925199433]],PROJECTION[\"Lambert_Conformal_Conic_2SP\"],PARAMETER[\"false_easting\",8202099.738],PARAMETER[\"false_northing\",0.0],PARAMETER[\"central_meridian\",-120.5],PARAMETER[\"standard_parallel_1\",44.33333333333334],PARAMETER[\"standard_parallel_2\",46.0],PARAMETER[\"latitude_of_origin\",43.66666666666666],UNIT[\"foot\",0.3048]],VERTCS[\"NAVD88 height - Geoid12B (Intl Feet)\",VDATUM[\"North American Vertical Datum 1988\"],PARAMETER[\"Vertical_Shift\",0.0],PARAMETER[\"Direction\",1.0],UNIT[\"foot\",0.3048]]"
 }
}
