<?xml version="1.0" encoding="UTF-8" standalone="no"?>
<metadata xml:lang="en">
<Esri>
<CreaDate>20210621</CreaDate>
<CreaTime>16391000</CreaTime>
<ArcGISFormat>1.0</ArcGISFormat>
<SyncOnce>FALSE</SyncOnce>
<DataProperties>
<lineage>
<Process Date="20210621" Time="163910" ToolSource="c:\users\bfreeman\appdata\local\programs\arcgis\pro\Resources\ArcToolbox\toolboxes\Conversion Tools.tbx\LasDatasetToRaster">LasDatasetToRaster 2019_BES_Topo.lasd "C:\temp\2019 Lidar Processing\GDB\lidar_2019.gdb\bes_1ft_dem_raw_take2" Elevation "BINNING AVERAGE LINEAR" "Floating Point" "Cell Size" 1 1</Process>
<Process Date="20210621" Time="171805" ToolSource="c:\program files (x86)\arcgis\desktop10.7\ArcToolbox\Toolboxes\Data Management Tools.tbx\Clip">Clip bes_1ft_dem_raw_take2 "7594924.94253918 636499.942750031 7745482.18287532 733117.304327088" "C:\temp\2019 Lidar Processing\GDB\lidar_2019.gdb\bes_1ft_dem_take2" topo_1050ft_buff -3.402823e+38 ClippingGeometry NO_MAINTAIN_EXTENT</Process>
</lineage>
<itemProps>
<itemName Sync="TRUE">bes_1ft_dem_take2</itemName>
<imsContentType Sync="TRUE">002</imsContentType>
<nativeExtBox>
<westBL Sync="TRUE">7594924.530000</westBL>
<eastBL Sync="TRUE">7745482.530000</eastBL>
<southBL Sync="TRUE">636499.550000</southBL>
<northBL Sync="TRUE">733117.550000</northBL>
<exTypeCode Sync="TRUE">1</exTypeCode>
</nativeExtBox>
<itemLocation>
<linkage Sync="TRUE">file://\\WS27473\C$\temp\2019 Lidar Processing\GDB\lidar_2019.gdb</linkage>
<protocol Sync="TRUE">Local Area Network</protocol>
</itemLocation>
</itemProps>
<coordRef>
<type Sync="TRUE">Projected</type>
<geogcsn Sync="TRUE">GCS_NAD_1983_2011</geogcsn>
<csUnits Sync="TRUE">Linear Unit: foot (0.304800)</csUnits>
<projcsn Sync="TRUE">NAD83(2011) / Oregon North (ft)</projcsn>
<peXml Sync="TRUE">&lt;ProjectedCoordinateSystem xsi:type='typens:ProjectedCoordinateSystem' xmlns:xsi='http://www.w3.org/2001/XMLSchema-instance' xmlns:xs='http://www.w3.org/2001/XMLSchema' xmlns:typens='http://www.esri.com/schemas/ArcGIS/10.7'&gt;&lt;WKT&gt;PROJCS[&amp;quot;NAD83(2011) / Oregon North (ft)&amp;quot;,GEOGCS[&amp;quot;NAD83(2011)&amp;quot;,DATUM[&amp;quot;NAD83_National_Spatial_Reference_System_2011&amp;quot;,SPHEROID[&amp;quot;GRS 1980&amp;quot;,6378137.0,298.257222101]],PRIMEM[&amp;quot;Greenwich&amp;quot;,0.0],UNIT[&amp;quot;degree&amp;quot;,0.0174532925199433]],PROJECTION[&amp;quot;Lambert_Conformal_Conic_2SP&amp;quot;],PARAMETER[&amp;quot;false_easting&amp;quot;,8202099.738],PARAMETER[&amp;quot;false_northing&amp;quot;,0.0],PARAMETER[&amp;quot;central_meridian&amp;quot;,-120.5],PARAMETER[&amp;quot;standard_parallel_1&amp;quot;,44.33333333333334],PARAMETER[&amp;quot;standard_parallel_2&amp;quot;,46.0],PARAMETER[&amp;quot;latitude_of_origin&amp;quot;,43.66666666666666],UNIT[&amp;quot;foot&amp;quot;,0.3048]],VERTCS[&amp;quot;NAVD88 height - Geoid12B (Intl Feet)&amp;quot;,VDATUM[&amp;quot;North American Vertical Datum 1988&amp;quot;],PARAMETER[&amp;quot;Vertical_Shift&amp;quot;,0.0],PARAMETER[&amp;quot;Direction&amp;quot;,1.0],UNIT[&amp;quot;foot&amp;quot;,0.3048]]&lt;/WKT&gt;&lt;XOrigin&gt;-111333600&lt;/XOrigin&gt;&lt;YOrigin&gt;-98152500&lt;/YOrigin&gt;&lt;XYScale&gt;37675770.731007516&lt;/XYScale&gt;&lt;ZOrigin&gt;-100000&lt;/ZOrigin&gt;&lt;ZScale&gt;3048.0000000000005&lt;/ZScale&gt;&lt;MOrigin&gt;-100000&lt;/MOrigin&gt;&lt;MScale&gt;10000&lt;/MScale&gt;&lt;XYTolerance&gt;0.0032808398950131233&lt;/XYTolerance&gt;&lt;ZTolerance&gt;0.0032808398950131233&lt;/ZTolerance&gt;&lt;MTolerance&gt;0.001&lt;/MTolerance&gt;&lt;HighPrecision&gt;true&lt;/HighPrecision&gt;&lt;/ProjectedCoordinateSystem&gt;</peXml>
</coordRef>
</DataProperties>
<SyncDate>20210621</SyncDate>
<SyncTime>17134000</SyncTime>
<ModDate>20210621</ModDate>
<ModTime>17134000</ModTime>
</Esri>
<dataIdInfo>
<envirDesc Sync="TRUE"> Version 6.2 (Build 9200) ; Esri ArcGIS 10.7.1.11595</envirDesc>
<dataLang>
<languageCode Sync="TRUE" value="eng"/>
<countryCode Sync="TRUE" value="USA"/>
</dataLang>
<idCitation>
<resTitle Sync="TRUE">COP_LiDAR_2019_1ft_BE_DEM_WS</resTitle>
<presForm>
<PresFormCd Sync="TRUE" value="011"/>
</presForm>
</idCitation>
<spatRpType>
<SpatRepTypCd Sync="TRUE" value="002"/>
</spatRpType>
<dataExt>
<geoEle>
<GeoBndBox esriExtentType="search">
<exTypeCode Sync="TRUE">1</exTypeCode>
<westBL Sync="TRUE">-122.874804</westBL>
<eastBL Sync="TRUE">-122.277845</eastBL>
<northBL Sync="TRUE">45.663688</northBL>
<southBL Sync="TRUE">45.388178</southBL>
</GeoBndBox>
</geoEle>
</dataExt>
<idAbs/>
<searchKeys>
<keyword>LiDAR</keyword>
<keyword>Bare Earth</keyword>
<keyword>DEM</keyword>
<keyword>City of Portland</keyword>
<keyword>Portland</keyword>
<keyword>PDX</keyword>
</searchKeys>
<idPurp>1ft pixel Bare Earth DEM surface based on the 2019 LiDAR flight.</idPurp>
<idCredit/>
<resConst>
<Consts>
<useLimit/>
</Consts>
</resConst>
</dataIdInfo>
<mdLang>
<languageCode Sync="TRUE" value="eng"/>
<countryCode Sync="TRUE" value="USA"/>
</mdLang>
<distInfo>
<distFormat>
<formatName Sync="TRUE">File Geodatabase Raster Dataset</formatName>
</distFormat>
</distInfo>
<mdHrLv>
<ScopeCd Sync="TRUE" value="005"/>
</mdHrLv>
<mdHrLvName Sync="TRUE">dataset</mdHrLvName>
<refSysInfo>
<RefSystem>
<refSysID>
<identCode Sync="TRUE" code="0"/>
</refSysID>
</RefSystem>
</refSysInfo>
<spdoinfo>
<rastinfo>
<rasttype Sync="TRUE">Pixel</rasttype>
<rowcount Sync="TRUE">96618</rowcount>
<colcount Sync="TRUE">150558</colcount>
<rastxsz Sync="TRUE">1.000000</rastxsz>
<rastysz Sync="TRUE">1.000000</rastysz>
<rastbpp Sync="TRUE">32</rastbpp>
<vrtcount Sync="TRUE">1</vrtcount>
<rastorig Sync="TRUE">Upper Left</rastorig>
<rastcmap Sync="TRUE">FALSE</rastcmap>
<rastcomp Sync="TRUE">LZ77</rastcomp>
<rastband Sync="TRUE">1</rastband>
<rastdtyp Sync="TRUE">pixel codes</rastdtyp>
<rastifor Sync="TRUE">FGDBR</rastifor>
<rastplyr Sync="TRUE">TRUE</rastplyr>
</rastinfo>
</spdoinfo>
<spref>
<horizsys>
<planar>
<planci>
<plance Sync="TRUE">row and column</plance>
<coordrep>
<absres Sync="TRUE">1.000000</absres>
<ordres Sync="TRUE">1.000000</ordres>
</coordrep>
</planci>
</planar>
</horizsys>
</spref>
<mdDateSt Sync="TRUE">20210621</mdDateSt>
</metadata>
