{
 "currentVersion": 10.51,
 "serviceDescription": "This dataset encompasses the City of Portland portion of the 2014 LiDAR Survey flown by (WSI) a Quantum Spatial Company (QSI) for The Oregon Department of Geology and Mineral Industries (DOGAMI) with flights occurring from July 2014 through September",
 "name": "Public/LIDAR_DEM_RECLASSIFIED",
 "description": "This dataset encompasses the City of Portland portion of the 2014 LiDAR Survey flown by (WSI) a Quantum Spatial Company (QSI) for The Oregon Department of Geology and Mineral Industries (DOGAMI) with flights occurring from July 2014 through September",
 "extent": {
  "xmin": -1.3678362423631376E7,
  "ymin": 5682841.378215567,
  "xmax": -1.3611908708431376E7,
  "ymax": 5726618.887815568,
  "spatialReference": {
   "wkid": 102100,
   "latestWkid": 3857
  }
 },
 "initialExtent": {
  "xmin": -1.3678362423631376E7,
  "ymin": 5682841.378215567,
  "xmax": -1.3611908708431376E7,
  "ymax": 5726618.887815568,
  "spatialReference": {
   "wkid": 102100,
   "latestWkid": 3857
  }
 },
 "fullExtent": {
  "xmin": -1.3678362423631376E7,
  "ymin": 5682841.378215567,
  "xmax": -1.3611908708431376E7,
  "ymax": 5726618.887815568,
  "spatialReference": {
   "wkid": 102100,
   "latestWkid": 3857
  }
 },
 "heightModelInfo": {
  "heightModel": "orthometric",
  "heightUnit": "meter"
 },
 "pixelSizeX": 0.30479999999999774,
 "pixelSizeY": 0.3048000000000032,
 "bandCount": 1,
 "pixelType": "F32",
 "minPixelSize": 0,
 "maxPixelSize": 0,
 "copyrightText": "City of Portland, Oregon",
 "serviceDataType": "esriImageServiceDataTypeGeneric",
 "minValues": [
  -7.190000057220459
 ],
 "maxValues": [
  1284.280029296875
 ],
 "meanValues": [
  290.68249414288454
 ],
 "stdvValues": [
  246.71384403250624
 ],
 "objectIdField": "",
 "fields": [],
 "capabilities": "Mensuration,Image,Metadata",
 "defaultMosaicMethod": "Center",
 "allowedMosaicMethods": "",
 "sortField": "",
 "sortValue": null,
 "mosaicOperator": "First",
 "defaultCompressionQuality": 75,
 "defaultResamplingMethod": "Bilinear",
 "maxImageHeight": 4100,
 "maxImageWidth": 15000,
 "allowRasterFunction": true,
 "rasterFunctionInfos": [
  {
   "name": "None",
   "description": "",
   "help": ""
  }
 ],
 "rasterTypeInfos": [
  {
   "name": "Raster Dataset",
   "description": "Supports all ArcGIS Raster Datasets",
   "help": ""
  }
 ],
 "mensurationCapabilities": "Basic",
 "hasHistograms": true,
 "hasColormap": false,
 "hasRasterAttributeTable": false,
 "minScale": 0,
 "maxScale": 0,
 "exportTilesAllowed": false,
 "hasMultidimensions": false,
 "supportsStatistics": false,
 "supportsAdvancedQueries": false,
 "editFieldsInfo": null,
 "ownershipBasedAccessControlForRasters": null,
 "allowComputeTiePoints": false,
 "useStandardizedQueries": true,
 "advancedQueryCapabilities": {
  "useStandardizedQueries": true,
  "supportsStatistics": false,
  "supportsOrderBy": false,
  "supportsDistinct": false,
  "supportsPagination": false
 },
 "spatialReference": {
  "wkid": 102100,
  "latestWkid": 3857
 }
}
