View In:
ArcGIS JavaScript
ArcGIS Online Map Viewer
ArcGIS Earth
Service Description: Public/COP_LiDAR_2019_3ft_CanopyCvr_Reg
Name: Public/COP_LiDAR_2019_3ft_CanopyCvr_Reg
Description:
Single Fused Map Cache: false
Extent:
XMin: -1.3744232371824404E7
YMin: 5650248.619461979
XMax: -1.3580570371824404E7
YMax: 5752920.619461979
Spatial Reference: 102100
(3857)
Initial Extent:
XMin: -1.3744232371824404E7
YMin: 5650248.619461979
XMax: -1.3580570371824404E7
YMax: 5752920.619461979
Spatial Reference: 102100
(3857)
Full Extent:
XMin: -1.3744232371824404E7
YMin: 5650248.619461979
XMax: -1.3580570371824404E7
YMax: 5752920.619461979
Spatial Reference: 102100
(3857)
Pixel Size X: 3.0
Pixel Size Y: 3.0
Band Count: 1
Pixel Type: U16
RasterFunction Infos: {"rasterFunctionInfos": [{
"name": "None",
"description": "",
"help": ""
}]}
Mensuration Capabilities: Basic
Has Histograms: true
Has Colormap: false
Has Multi Dimensions : false
Rendering Rule:
Min Scale: 0
Max Scale: 0
Copyright Text:
Service Data Type: esriImageServiceDataTypeGeneric
Min Values: 0
Max Values: 317
Mean Values: 67.02205082629615
Standard Deviation Values: 37.72121778022664
Object ID Field:
Fields:
None
Default Mosaic Method: Center
Allowed Mosaic Methods:
SortField:
SortValue: null
Mosaic Operator: First
Default Compression Quality: 75
Default Resampling Method: Bilinear
Max Record Count: null
Max Image Height: 4100
Max Image Width: 15000
Max Download Image Count: null
Max Mosaic Image Count: null
Allow Raster Function: true
Allow Copy: true
Allow Analysis: true
Allow Compute TiePoints: false
Supports Statistics: false
Supports Advanced Queries: false
Use StandardizedQueries: true
Raster Type Infos:
Name: Raster Dataset
Description: Supports all ArcGIS Raster Datasets
Help:
Has Raster Attribute Table: true
Edit Fields Info: null
Ownership Based AccessControl For Rasters: null
Child Resources:
Info
Raster Attribute Table
Histograms
Statistics
Key Properties
Legend
Raster Function Infos
Supported Operations:
Export Image
Identify
Measure
Compute Histograms
Compute Statistics Histograms
Get Samples
Compute Class Statistics
Query Boundary
Compute Pixel Location
Compute Angles
Validate
Project