{
 "currentVersion": 10.91,
 "serviceDescription": "Public/COP_LiDAR_2019_1ft_BE_Perc_Slp_WS",
 "name": "Public/COP_LiDAR_2019_1ft_BE_Perc_Slp_WS",
 "description": "",
 "extent": {
  "xmin": 7594924.53,
  "ymin": 636499.55,
  "xmax": 7745482.53,
  "ymax": 733117.55,
  "spatialReference": {
   "wkt": "PROJCS[\"NAD83(2011) / Oregon North (ft)\",GEOGCS[\"NAD83(2011)\",DATUM[\"NAD83_National_Spatial_Reference_System_2011\",SPHEROID[\"GRS 1980\",6378137.0,298.257222101]],PRIMEM[\"Greenwich\",0.0],UNIT[\"degree\",0.0174532925199433]],PROJECTION[\"Lambert_Conformal_Conic_2SP\"],PARAMETER[\"false_easting\",8202099.738],PARAMETER[\"false_northing\",0.0],PARAMETER[\"central_meridian\",-120.5],PARAMETER[\"standard_parallel_1\",44.33333333333334],PARAMETER[\"standard_parallel_2\",46.0],PARAMETER[\"latitude_of_origin\",43.66666666666666],UNIT[\"foot\",0.3048]],VERTCS[\"NAVD88 height - Geoid12B (Intl Feet)\",VDATUM[\"North American Vertical Datum 1988\"],PARAMETER[\"Vertical_Shift\",0.0],PARAMETER[\"Direction\",1.0],UNIT[\"foot\",0.3048]]"
  }
 },
 "initialExtent": {
  "xmin": 7594924.53,
  "ymin": 636499.55,
  "xmax": 7745482.53,
  "ymax": 733117.55,
  "spatialReference": {
   "wkt": "PROJCS[\"NAD83(2011) / Oregon North (ft)\",GEOGCS[\"NAD83(2011)\",DATUM[\"NAD83_National_Spatial_Reference_System_2011\",SPHEROID[\"GRS 1980\",6378137.0,298.257222101]],PRIMEM[\"Greenwich\",0.0],UNIT[\"degree\",0.0174532925199433]],PROJECTION[\"Lambert_Conformal_Conic_2SP\"],PARAMETER[\"false_easting\",8202099.738],PARAMETER[\"false_northing\",0.0],PARAMETER[\"central_meridian\",-120.5],PARAMETER[\"standard_parallel_1\",44.33333333333334],PARAMETER[\"standard_parallel_2\",46.0],PARAMETER[\"latitude_of_origin\",43.66666666666666],UNIT[\"foot\",0.3048]],VERTCS[\"NAVD88 height - Geoid12B (Intl Feet)\",VDATUM[\"North American Vertical Datum 1988\"],PARAMETER[\"Vertical_Shift\",0.0],PARAMETER[\"Direction\",1.0],UNIT[\"foot\",0.3048]]"
  }
 },
 "fullExtent": {
  "xmin": 7594924.53,
  "ymin": 636499.55,
  "xmax": 7745482.53,
  "ymax": 733117.55,
  "spatialReference": {
   "wkt": "PROJCS[\"NAD83(2011) / Oregon North (ft)\",GEOGCS[\"NAD83(2011)\",DATUM[\"NAD83_National_Spatial_Reference_System_2011\",SPHEROID[\"GRS 1980\",6378137.0,298.257222101]],PRIMEM[\"Greenwich\",0.0],UNIT[\"degree\",0.0174532925199433]],PROJECTION[\"Lambert_Conformal_Conic_2SP\"],PARAMETER[\"false_easting\",8202099.738],PARAMETER[\"false_northing\",0.0],PARAMETER[\"central_meridian\",-120.5],PARAMETER[\"standard_parallel_1\",44.33333333333334],PARAMETER[\"standard_parallel_2\",46.0],PARAMETER[\"latitude_of_origin\",43.66666666666666],UNIT[\"foot\",0.3048]],VERTCS[\"NAVD88 height - Geoid12B (Intl Feet)\",VDATUM[\"North American Vertical Datum 1988\"],PARAMETER[\"Vertical_Shift\",0.0],PARAMETER[\"Direction\",1.0],UNIT[\"foot\",0.3048]]"
  }
 },
 "heightModelInfo": {
  "heightModel": "gravity_related_height",
  "vertCRS": "NAVD88 height - Geoid12B (Intl Feet)",
  "heightUnit": "foot"
 },
 "hasMultidimensions": false,
 "pixelSizeX": 1,
 "pixelSizeY": 1,
 "datasetFormat": "FGDBR",
 "uncompressedSize": 58186451376,
 "blockWidth": 128,
 "blockHeight": 128,
 "compressionType": "NONE",
 "bandNames": [
  "Band_1"
 ],
 "allowCopy": true,
 "allowAnalysis": true,
 "bandCount": 1,
 "pixelType": "F32",
 "minPixelSize": 0,
 "maxPixelSize": 0,
 "copyrightText": "",
 "serviceDataType": "esriImageServiceDataTypeGeneric",
 "serviceSourceType": "esriImageServiceSourceTypeDataset",
 "minValues": [
  9.276403256652799E-11
 ],
 "maxValues": [
  4343.9970703125
 ],
 "meanValues": [
  13.859893784806491
 ],
 "stdvValues": [
  19.66873038371565
 ],
 "objectIdField": "",
 "fields": [],
 "capabilities": "Image,Metadata,Mensuration",
 "defaultMosaicMethod": "Center",
 "allowedMosaicMethods": "",
 "sortField": "",
 "sortValue": null,
 "sortAscending": true,
 "mosaicOperator": "First",
 "defaultCompressionQuality": 80,
 "defaultResamplingMethod": "Bilinear",
 "maxImageHeight": 4100,
 "maxImageWidth": 15000,
 "allowRasterFunction": true,
 "rasterFunctionInfos": [
  {
   "name": "None",
   "description": "",
   "help": ""
  }
 ],
 "rasterTypeInfos": [
  {
   "name": "Raster Dataset",
   "description": "Supports all ArcGIS Raster Datasets",
   "help": ""
  }
 ],
 "mensurationCapabilities": "Basic",
 "hasHistograms": true,
 "hasColormap": false,
 "hasRasterAttributeTable": false,
 "minScale": 0,
 "maxScale": 0,
 "exportTilesAllowed": false,
 "supportsStatistics": false,
 "supportsAdvancedQueries": false,
 "editFieldsInfo": null,
 "ownershipBasedAccessControlForRasters": null,
 "allowComputeTiePoints": false,
 "useStandardizedQueries": true,
 "advancedQueryCapabilities": {
  "useStandardizedQueries": true,
  "supportsStatistics": false,
  "supportsOrderBy": false,
  "supportsDistinct": false,
  "supportsPagination": false
 },
 "spatialReference": {
  "wkt": "PROJCS[\"NAD83(2011) / Oregon North (ft)\",GEOGCS[\"NAD83(2011)\",DATUM[\"NAD83_National_Spatial_Reference_System_2011\",SPHEROID[\"GRS 1980\",6378137.0,298.257222101]],PRIMEM[\"Greenwich\",0.0],UNIT[\"degree\",0.0174532925199433]],PROJECTION[\"Lambert_Conformal_Conic_2SP\"],PARAMETER[\"false_easting\",8202099.738],PARAMETER[\"false_northing\",0.0],PARAMETER[\"central_meridian\",-120.5],PARAMETER[\"standard_parallel_1\",44.33333333333334],PARAMETER[\"standard_parallel_2\",46.0],PARAMETER[\"latitude_of_origin\",43.66666666666666],UNIT[\"foot\",0.3048]],VERTCS[\"NAVD88 height - Geoid12B (Intl Feet)\",VDATUM[\"North American Vertical Datum 1988\"],PARAMETER[\"Vertical_Shift\",0.0],PARAMETER[\"Direction\",1.0],UNIT[\"foot\",0.3048]]"
 }
}
