View In:
ArcGIS JavaScript
ArcGIS Online Map Viewer
ArcGIS Earth
Service Description: Public/COP_LiDAR_2014_3ft_CanopyCvr_Reg
Name: Public/COP_LiDAR_2014_3ft_CanopyCvr_Reg
Description:
Single Fused Map Cache: false
Extent:
XMin: -1.3710379844473112E7
YMin: 5662634.349744956
XMax: -1.3616918106073113E7
YMax: 5727846.614544956
Spatial Reference: 102100
(3857)
Initial Extent:
XMin: -1.3710379844473112E7
YMin: 5662634.349744956
XMax: -1.3616918106073113E7
YMax: 5727846.614544956
Spatial Reference: 102100
(3857)
Full Extent:
XMin: -1.3710379844473112E7
YMin: 5662634.349744956
XMax: -1.3616918106073113E7
YMax: 5727846.614544956
Spatial Reference: 102100
(3857)
Pixel Size X: 0.9143999999999923
Pixel Size Y: 0.9144000000000001
Band Count: 1
Pixel Type: S8
RasterFunction Infos: {"rasterFunctionInfos": [{
"name": "None",
"description": "",
"help": ""
}]}
Mensuration Capabilities: Basic
Has Histograms: true
Has Colormap: false
Has Multi Dimensions : false
Rendering Rule:
Min Scale: 0
Max Scale: 0
Copyright Text:
Service Data Type: esriImageServiceDataTypeGeneric
Min Values: 1
Max Values: 2
Mean Values: 1.6052040737550781
Standard Deviation Values: 0.4888068157006816
Object ID Field:
Fields:
None
Default Mosaic Method: Center
Allowed Mosaic Methods:
SortField:
SortValue: null
Mosaic Operator: First
Default Compression Quality: 80
Default Resampling Method: Bilinear
Max Record Count: null
Max Image Height: 4100
Max Image Width: 15000
Max Download Image Count: null
Max Mosaic Image Count: null
Allow Raster Function: true
Allow Copy: true
Allow Analysis: true
Allow Compute TiePoints: false
Supports Statistics: false
Supports Advanced Queries: false
Use StandardizedQueries: true
Raster Type Infos:
Name: Raster Dataset
Description: Supports all ArcGIS Raster Datasets
Help:
Has Raster Attribute Table: true
Edit Fields Info: null
Ownership Based AccessControl For Rasters: null
Child Resources:
Info
Raster Attribute Table
Histograms
Statistics
Key Properties
Legend
Raster Function Infos
Supported Operations:
Export Image
Identify
Measure
Compute Histograms
Compute Statistics Histograms
Get Samples
Compute Class Statistics
Query Boundary
Compute Pixel Location
Compute Angles
Validate
Project