View In:
ArcGIS JavaScript
ArcGIS Online Map Viewer
ArcGIS Earth
Service Description: Public/COP_LiDAR_2014_3ft_BE_DEM_Reg
Name: Public/COP_LiDAR_2014_3ft_BE_DEM_Reg
Description:
Single Fused Map Cache: false
Extent:
XMin: -1.3722636446726449E7
YMin: 5650840.998562074
XMax: -1.3557785671526449E7
YMax: 5736422.437762074
Spatial Reference: 102100
(3857)
LatestVCSWkid(0)
Initial Extent:
XMin: -1.3722636446726449E7
YMin: 5650840.998562074
XMax: -1.3557785671526449E7
YMax: 5736422.437762074
Spatial Reference: 102100
(3857)
LatestVCSWkid(0)
Full Extent:
XMin: -1.3722636446726449E7
YMin: 5650840.998562074
XMax: -1.3557785671526449E7
YMax: 5736422.437762074
Spatial Reference: 102100
(3857)
LatestVCSWkid(0)
Pixel Size X: 0.9144000000000002
Pixel Size Y: 0.914399999999999
Band Count: 1
Pixel Type: F32
RasterFunction Infos: {"rasterFunctionInfos": [{
"name": "None",
"description": "",
"help": ""
}]}
Mensuration Capabilities: Basic
Has Histograms: true
Has Colormap: false
Has Multi Dimensions : false
Rendering Rule:
Min Scale: 0
Max Scale: 0
Copyright Text:
Service Data Type: esriImageServiceDataTypeGeneric
Min Values: -67.79667663574219
Max Values: 4758.669921875
Mean Values: 584.3360998682623
Standard Deviation Values: 803.5873620527191
Object ID Field:
Fields:
None
Default Mosaic Method: Center
Allowed Mosaic Methods:
SortField:
SortValue: null
Mosaic Operator: First
Default Compression Quality: 80
Default Resampling Method: Bilinear
Max Record Count: null
Max Image Height: 4100
Max Image Width: 15000
Max Download Image Count: null
Max Mosaic Image Count: null
Allow Raster Function: true
Allow Copy: true
Allow Analysis: true
Allow Compute TiePoints: false
Supports Statistics: false
Supports Advanced Queries: false
Use StandardizedQueries: true
Raster Type Infos:
Name: Raster Dataset
Description: Supports all ArcGIS Raster Datasets
Help:
Has Raster Attribute Table: false
Edit Fields Info: null
Ownership Based AccessControl For Rasters: null
Child Resources:
Info
Histograms
Statistics
Key Properties
Legend
Raster Function Infos
Supported Operations:
Export Image
Identify
Measure
Compute Histograms
Compute Statistics Histograms
Get Samples
Compute Class Statistics
Query Boundary
Compute Pixel Location
Compute Angles
Validate
Project