View In:
ArcGIS JavaScript
ArcGIS Online Map Viewer
ArcGIS Earth
ArcMap
View Footprint In:
ArcGIS Online Map Viewer
Service Description: Public/COP_LiDAR_2007_3ft_FR_DEM_Reg
Name: Public/COP_LiDAR_2007_3ft_FR_DEM_Reg
Description:
Single Fused Map Cache: false
Extent:
XMin: -1.3679754789093118E7
YMin: 5677709.91234584
XMax: -1.3606525065093119E7
YMax: 5729249.15394584
Spatial Reference: 102100
(3857)
Initial Extent:
XMin: -1.3679754789093118E7
YMin: 5677709.91234584
XMax: -1.3606525065093119E7
YMax: 5729249.15394584
Spatial Reference: 102100
(3857)
Full Extent:
XMin: -1.3679754789093118E7
YMin: 5677709.91234584
XMax: -1.3606525065093119E7
YMax: 5729249.15394584
Spatial Reference: 102100
(3857)
Pixel Size X: 0.9143999999999933
Pixel Size Y: 0.9144000000000053
Band Count: 1
Pixel Type: F32
RasterFunction Infos: {"rasterFunctionInfos": [{
"name": "None",
"description": "",
"help": ""
}]}
Mensuration Capabilities: Basic
Has Histograms: true
Has Colormap: false
Has Multi Dimensions : false
Rendering Rule:
Min Scale: 0
Max Scale: 0
Copyright Text:
Service Data Type: esriImageServiceDataTypeGeneric
Min Values: 0
Max Values: 1397.0849609375
Mean Values: 258.1092177044754
Standard Deviation Values: 262.44090758327775
Object ID Field:
Fields:
None
Default Mosaic Method: Center
Allowed Mosaic Methods:
SortField:
SortValue: null
Mosaic Operator: First
Default Compression Quality: 80
Default Resampling Method: Bilinear
Max Record Count: null
Max Image Height: 4100
Max Image Width: 15000
Max Download Image Count: null
Max Mosaic Image Count: null
Allow Raster Function: true
Allow Copy: true
Allow Analysis: true
Allow Compute TiePoints: false
Supports Statistics: false
Supports Advanced Queries: false
Use StandardizedQueries: true
Raster Type Infos:
Name: Raster Dataset
Description: Supports all ArcGIS Raster Datasets
Help:
Has Raster Attribute Table: false
Edit Fields Info: null
Ownership Based AccessControl For Rasters: null
Child Resources:
Info
Histograms
Statistics
Key Properties
Legend
Raster Function Infos
Supported Operations:
Export Image
Identify
Measure
Compute Histograms
Compute Statistics Histograms
Get Samples
Compute Class Statistics
Query Boundary
Compute Pixel Location
Validate
Project